BEGIN:VCALENDAR
VERSION:2.0
PRODID:-//Explore Hunterdon County - ECPv6.15.20//NONSGML v1.0//EN
CALSCALE:GREGORIAN
METHOD:PUBLISH
X-ORIGINAL-URL:https://explorehunterdonnj.com
X-WR-CALDESC:Events for Explore Hunterdon County
REFRESH-INTERVAL;VALUE=DURATION:PT1H
X-Robots-Tag:noindex
X-PUBLISHED-TTL:PT1H
BEGIN:VTIMEZONE
TZID:America/New_York
BEGIN:DAYLIGHT
TZOFFSETFROM:-0500
TZOFFSETTO:-0400
TZNAME:EDT
DTSTART:20240310T070000
END:DAYLIGHT
BEGIN:STANDARD
TZOFFSETFROM:-0400
TZOFFSETTO:-0500
TZNAME:EST
DTSTART:20241103T060000
END:STANDARD
BEGIN:DAYLIGHT
TZOFFSETFROM:-0500
TZOFFSETTO:-0400
TZNAME:EDT
DTSTART:20250309T070000
END:DAYLIGHT
BEGIN:STANDARD
TZOFFSETFROM:-0400
TZOFFSETTO:-0500
TZNAME:EST
DTSTART:20251102T060000
END:STANDARD
BEGIN:DAYLIGHT
TZOFFSETFROM:-0500
TZOFFSETTO:-0400
TZNAME:EDT
DTSTART:20260308T070000
END:DAYLIGHT
BEGIN:STANDARD
TZOFFSETFROM:-0400
TZOFFSETTO:-0500
TZNAME:EST
DTSTART:20261101T060000
END:STANDARD
BEGIN:DAYLIGHT
TZOFFSETFROM:-0500
TZOFFSETTO:-0400
TZNAME:EDT
DTSTART:20270314T070000
END:DAYLIGHT
BEGIN:STANDARD
TZOFFSETFROM:-0400
TZOFFSETTO:-0500
TZNAME:EST
DTSTART:20271107T060000
END:STANDARD
END:VTIMEZONE
BEGIN:VEVENT
DTSTART;TZID=America/New_York:20260214T183000
DTEND;TZID=America/New_York:20260214T220000
DTSTAMP:20260424T124500
CREATED:20260118T231126Z
LAST-MODIFIED:20260118T231217Z
UID:10014281-1771093800-1771106400@explorehunterdonnj.com
SUMMARY:Valentines Dinner in the Farmhouse
DESCRIPTION:Great wine pairs well with great company\, especially this Valentines Day. Join us with your loved ones on Saturday February 14th at 6:30 PM to celebrate the season of love with dinner in the 1858 Farmhouse catered by Blawenburg Bistro. \n\n\n\nTickets: $140 \n\n\n\nTickets for Club Members: $120 \n\n\n\nNOTICE: Please purchase all tickets for your group in one transaction or under one name. This is how we will be arranging seating so in order for us to seat your group together\, the purchase must be under one customer name. You can purchase extra tickets at a later time but make sure the name is exactly the same.
URL:https://explorehunterdonnj.com/event/valentines-dinner-in-the-farmhouse
LOCATION:Unionville Vineyards\, 9 Rocktown Rd\, Ringoes\, NJ\, 08551\, United States
CATEGORIES:579 Trail,579 Trail (Homepage)
ATTACH;FMTTYPE=image/png:https://explorehunterdonnj.com/wp-content/uploads/2026/01/Screen-Shot-2026-01-18-at-6.08.44-PM.png
END:VEVENT
BEGIN:VEVENT
DTSTART;TZID=America/New_York:20260201T120000
DTEND;TZID=America/New_York:20260201T170000
DTSTAMP:20260424T124500
CREATED:20260118T231453Z
LAST-MODIFIED:20260118T231455Z
UID:10014282-1769947200-1769965200@explorehunterdonnj.com
SUMMARY:Soup Sunday
DESCRIPTION:Chase away the chills of winter with warm soup by Chef Nash Reba. Grab a cup to enjoy on property or take a pint to go. Live music in the Tasting Room from 1-4PM.  \n\n\n\nSoup Menu: \n\n\n\nHoneynut Squash and Apple Soup-Apple Butter\, Spiced Hazelnut Crumble (vegan)Play on Caldo Gallego-Local Sage Sausage\, Lale\, Potato\, White bean\, Roasted Garlic\, Lemon\, Oregano & Rye berriesRoasted Garlic Parsnip Soup-Sage Sunflower Seed Pesto
URL:https://explorehunterdonnj.com/event/soup-sunday
LOCATION:Unionville Vineyards\, 9 Rocktown Rd\, Ringoes\, NJ\, 08551\, United States
CATEGORIES:579 Trail
ATTACH;FMTTYPE=image/png:https://explorehunterdonnj.com/wp-content/uploads/2024/06/Unionville-Vineyards-Logo_960.png
END:VEVENT
BEGIN:VEVENT
DTSTART;TZID=America/New_York:20260124T120000
DTEND;TZID=America/New_York:20260125T170000
DTSTAMP:20260424T124500
CREATED:20260104T232947Z
LAST-MODIFIED:20260104T232955Z
UID:10013879-1769256000-1769360400@explorehunterdonnj.com
SUMMARY:Grilled Cheese Weekend
DESCRIPTION:Bobolink Dairy & Bakehouse joins us in the Tasting Room for an exciting weekend of grilled cheese/panini sandwiches and wine! Live music on property both days. No cover needed and families welcome!
URL:https://explorehunterdonnj.com/event/grilled-cheese-weekend-3
LOCATION:Unionville Vineyards\, 9 Rocktown Rd\, Ringoes\, NJ\, 08551\, United States
CATEGORIES:579 Trail
ATTACH;FMTTYPE=image/png:https://explorehunterdonnj.com/wp-content/uploads/2024/06/Unionville-Vineyards-Logo_960.png
END:VEVENT
BEGIN:VEVENT
DTSTART;TZID=America/New_York:20251220T120000
DTEND;TZID=America/New_York:20251221T170000
DTSTAMP:20260424T124500
CREATED:20251130T220040Z
LAST-MODIFIED:20251130T220045Z
UID:10013840-1766232000-1766336400@explorehunterdonnj.com
SUMMARY:Countryside Christmas
DESCRIPTION:Celebrate Countryside Christmas at the Vineyard with us on December 20th and 21st from 12-5PM. Some fun festivities will include live music\, fire pit\, diy cork ornaments\, and more!
URL:https://explorehunterdonnj.com/event/countryside-christmas-2
LOCATION:Unionville Vineyards\, 9 Rocktown Rd\, Ringoes\, NJ\, 08551\, United States
CATEGORIES:579 Trail,579 Trail (Homepage)
ATTACH;FMTTYPE=image/png:https://explorehunterdonnj.com/wp-content/uploads/2024/06/Unionville-Vineyards-Logo_960.png
END:VEVENT
BEGIN:VEVENT
DTSTART;TZID=America/New_York:20251213T183000
DTEND;TZID=America/New_York:20251213T210000
DTSTAMP:20260424T124500
CREATED:20251130T215732Z
LAST-MODIFIED:20251130T215737Z
UID:10013839-1765650600-1765659600@explorehunterdonnj.com
SUMMARY:Holiday Dinner
DESCRIPTION:Join us on Saturday December 13th at 6:30 PM to celebrate the holiday season with dinner in the 1858 Farmhouse catered by Blawenburg Bistro. \n\n\n\nTickets: $155 \n\n\n\nTickets for Club Members: $135 \n\n\n\nNOTICE: Please purchase all tickets for your group in one transaction or under one name. This is how we will be arranging seating so in order for us to seat your group together\, the purchase must be under one customer name. You can purchase extra tickets at a later time but make sure the name is exactly the same. \n\n\n\nPassed Appetizers in the Tasting Room: \n\n\n\nDuck confit crostini with sugar plum reductionCrab cakes with remoulade sauceSpinach\, artichoke\, and pecorino romano in phylloDeviled eggs with red pepper jam and arugulaLittle Stars of Pinot Noir\, Gruner Veltliner\, Unoaked Chardonnay\, Silver Lining Cab Franc \n\n\n\nDinner in the 1858 Farmhouse \n\n\n\nFirst Course: \n\n\n\nShrimp with plum tomato\, caramelized fennel\, and French feta in Unionville Vineyards Pheasant Hill Chardonnay reduction – 2024 Marsanne / Roussanne Reserve and library Hunterdon Mistral Blanc \n\n\n\nSecond Course: \n\n\n\nButternut squash ravioli with brussels sprouts\, cranberries\, walnuts\, and parmesan – 2022 Pinot Noir Reserve and library Pinot Noir \n\n\n\nThird Course: \n\n\n\nSous vide beef short ribs with Unionville Vineyards Sourland Ridge Red demi glace\, potatoes au gratin and purple and green asparagus – 2022 The Big O and library Big O \n\n\n\nDessert Course: \n\n\n\nFlourless chocolate cake\, ganache\, pomegranate gelée – Vat #31 Port and Coffee
URL:https://explorehunterdonnj.com/event/holiday-dinner-2
LOCATION:Unionville Vineyards\, 9 Rocktown Rd\, Ringoes\, NJ\, 08551\, United States
CATEGORIES:579 Trail,579 Trail (Homepage)
ATTACH;FMTTYPE=image/png:https://explorehunterdonnj.com/wp-content/uploads/2024/06/Unionville-Vineyards-Logo_960.png
END:VEVENT
BEGIN:VEVENT
DTSTART;TZID=America/New_York:20250928T120000
DTEND;TZID=America/New_York:20250928T170000
DTSTAMP:20260424T124500
CREATED:20250824T234932Z
LAST-MODIFIED:20250824T234932Z
UID:10013426-1759060800-1759078800@explorehunterdonnj.com
SUMMARY:Pork Roll Sunday
DESCRIPTION:Pork Roll Sunday comes to Unionville on September 28th\, 12-5PM! Celebrating a New Jersey delicacy\, join us on property as Blawenburg Bistro makes fresh pork roll sandwiches. Live music on property\, admission is free\, and families are welcome.
URL:https://explorehunterdonnj.com/event/pork-roll-sunday
LOCATION:Unionville Vineyards\, 9 Rocktown Rd\, Ringoes\, NJ\, 08551\, United States
CATEGORIES:579 Trail,579 Trail (Homepage)
ATTACH;FMTTYPE=image/png:https://explorehunterdonnj.com/wp-content/uploads/2024/06/Unionville-Vineyards-Logo_960.png
END:VEVENT
BEGIN:VEVENT
DTSTART;TZID=America/New_York:20250920T180000
DTEND;TZID=America/New_York:20250920T210000
DTSTAMP:20260424T124500
CREATED:20250824T234512Z
LAST-MODIFIED:20250824T234529Z
UID:10013424-1758391200-1758402000@explorehunterdonnj.com
SUMMARY:Harvest Dinner
DESCRIPTION:Harvest Dinner returns to Unionville on September 20th at 6PM. Held in the vineyard behind the 1858 Farmhouse\, Chef Nash Reba will be cooking up an artisan menu\, to be announced. \nDinner is limited to 25 guests in the Farmhouse. Once we have the promise of fair weather\, up to 50 guests will be invited to dine in the vineyard! Club members can write terese@unionvillevineyards.com for the code to purchase tickets at the $160 discounted rate if not received by email.
URL:https://explorehunterdonnj.com/event/harvest-dinner
LOCATION:Unionville Vineyards\, 9 Rocktown Rd\, Ringoes\, NJ\, 08551\, United States
CATEGORIES:579 Trail,579 Trail (Homepage)
ATTACH;FMTTYPE=image/png:https://explorehunterdonnj.com/wp-content/uploads/2024/06/Unionville-Vineyards-Logo_960.png
END:VEVENT
END:VCALENDAR