BEGIN:VCALENDAR
VERSION:2.0
PRODID:-//Explore Hunterdon County - ECPv6.15.20//NONSGML v1.0//EN
CALSCALE:GREGORIAN
METHOD:PUBLISH
X-WR-CALNAME:Explore Hunterdon County
X-ORIGINAL-URL:https://explorehunterdonnj.com
X-WR-CALDESC:Events for Explore Hunterdon County
REFRESH-INTERVAL;VALUE=DURATION:PT1H
X-Robots-Tag:noindex
X-PUBLISHED-TTL:PT1H
BEGIN:VTIMEZONE
TZID:America/New_York
BEGIN:DAYLIGHT
TZOFFSETFROM:-0500
TZOFFSETTO:-0400
TZNAME:EDT
DTSTART:20250309T070000
END:DAYLIGHT
BEGIN:STANDARD
TZOFFSETFROM:-0400
TZOFFSETTO:-0500
TZNAME:EST
DTSTART:20251102T060000
END:STANDARD
BEGIN:DAYLIGHT
TZOFFSETFROM:-0500
TZOFFSETTO:-0400
TZNAME:EDT
DTSTART:20260308T070000
END:DAYLIGHT
BEGIN:STANDARD
TZOFFSETFROM:-0400
TZOFFSETTO:-0500
TZNAME:EST
DTSTART:20261101T060000
END:STANDARD
BEGIN:DAYLIGHT
TZOFFSETFROM:-0500
TZOFFSETTO:-0400
TZNAME:EDT
DTSTART:20270314T070000
END:DAYLIGHT
BEGIN:STANDARD
TZOFFSETFROM:-0400
TZOFFSETTO:-0500
TZNAME:EST
DTSTART:20271107T060000
END:STANDARD
END:VTIMEZONE
BEGIN:VEVENT
DTSTART;TZID=America/New_York:20260213T000000
DTEND;TZID=America/New_York:20260215T235959
DTSTAMP:20260423T023309
CREATED:20260113T005838Z
LAST-MODIFIED:20260113T005844Z
UID:10014153-1770940800-1771199999@explorehunterdonnj.com
SUMMARY:Valentine's Weekend
DESCRIPTION:The Wine & Chocolate Trail will be celebrated from February 13-15\, 2026. \n\n\n\nWe are excited to announce that the Wine & Chocolate Trail will be celebrated from February 13–15\, 2026. \n\n\n\nBring your loved ones to the vineyard for a special Valentine’s experience. You can choose between a savory\, salty\, and sweet pairing or a pairing featuring chocolates from Sciascia Confections. \n\n\n\n \n\n\n\nMore details and reservation information will be available soon.
URL:https://explorehunterdonnj.com/event/valentines-weekend-2
ATTACH;FMTTYPE=image/png:https://explorehunterdonnj.com/wp-content/uploads/2022/07/federal-twist-logo.png
END:VEVENT
BEGIN:VEVENT
DTSTART;TZID=America/New_York:20260214T113000
DTEND;TZID=America/New_York:20260215T143000
DTSTAMP:20260423T023309
CREATED:20260119T001907Z
LAST-MODIFIED:20260119T001957Z
UID:10014162-1771068600-1771165800@explorehunterdonnj.com
SUMMARY:Weekend Bubbly Brunch✨
DESCRIPTION:Elevate your weekends with Brunch at the Winery \n\n\n\nSavor a leisurely brunch surrounded by vineyard views. Our menu features a wide selection of Spanish-inspired dishes crafted by our in-house chef\, perfectly paired with mimosas\, sparkling wines\, and your favorite Old York Cellars selections. \n\n\n\nEnhance your experience with our exclusive Brunch Pairings\, including the ever-popular Wine & Bacon Pairing. \n\n\n\nBrunch is served 11:30 am – 2:30 pm every Saturday & Sunday\, and on select holidays. \n\n\n\nSip\, savor\, and make your weekend sparkle! ✨
URL:https://explorehunterdonnj.com/event/weekend-bubbly-brunch%e2%9c%a8-3/2026-02-14
CATEGORIES:579 Trail
ATTACH;FMTTYPE=image/png:https://explorehunterdonnj.com/wp-content/uploads/2022/07/Old-York-Cellars.png
END:VEVENT
BEGIN:VEVENT
DTSTART;TZID=America/New_York:20260214T183000
DTEND;TZID=America/New_York:20260214T220000
DTSTAMP:20260423T023309
CREATED:20260118T231126Z
LAST-MODIFIED:20260118T231217Z
UID:10014281-1771093800-1771106400@explorehunterdonnj.com
SUMMARY:Valentines Dinner in the Farmhouse
DESCRIPTION:Great wine pairs well with great company\, especially this Valentines Day. Join us with your loved ones on Saturday February 14th at 6:30 PM to celebrate the season of love with dinner in the 1858 Farmhouse catered by Blawenburg Bistro. \n\n\n\nTickets: $140 \n\n\n\nTickets for Club Members: $120 \n\n\n\nNOTICE: Please purchase all tickets for your group in one transaction or under one name. This is how we will be arranging seating so in order for us to seat your group together\, the purchase must be under one customer name. You can purchase extra tickets at a later time but make sure the name is exactly the same.
URL:https://explorehunterdonnj.com/event/valentines-dinner-in-the-farmhouse
LOCATION:Unionville Vineyards\, 9 Rocktown Rd\, Ringoes\, NJ\, 08551\, United States
CATEGORIES:579 Trail,579 Trail (Homepage)
ATTACH;FMTTYPE=image/png:https://explorehunterdonnj.com/wp-content/uploads/2026/01/Screen-Shot-2026-01-18-at-6.08.44-PM.png
END:VEVENT
END:VCALENDAR