BEGIN:VCALENDAR
VERSION:2.0
PRODID:-//Explore Hunterdon County - ECPv6.15.20//NONSGML v1.0//EN
CALSCALE:GREGORIAN
METHOD:PUBLISH
X-ORIGINAL-URL:https://explorehunterdonnj.com
X-WR-CALDESC:Events for Explore Hunterdon County
REFRESH-INTERVAL;VALUE=DURATION:PT1H
X-Robots-Tag:noindex
X-PUBLISHED-TTL:PT1H
BEGIN:VTIMEZONE
TZID:America/New_York
BEGIN:DAYLIGHT
TZOFFSETFROM:-0500
TZOFFSETTO:-0400
TZNAME:EDT
DTSTART:20240310T070000
END:DAYLIGHT
BEGIN:STANDARD
TZOFFSETFROM:-0400
TZOFFSETTO:-0500
TZNAME:EST
DTSTART:20241103T060000
END:STANDARD
BEGIN:DAYLIGHT
TZOFFSETFROM:-0500
TZOFFSETTO:-0400
TZNAME:EDT
DTSTART:20250309T070000
END:DAYLIGHT
BEGIN:STANDARD
TZOFFSETFROM:-0400
TZOFFSETTO:-0500
TZNAME:EST
DTSTART:20251102T060000
END:STANDARD
BEGIN:DAYLIGHT
TZOFFSETFROM:-0500
TZOFFSETTO:-0400
TZNAME:EDT
DTSTART:20260308T070000
END:DAYLIGHT
BEGIN:STANDARD
TZOFFSETFROM:-0400
TZOFFSETTO:-0500
TZNAME:EST
DTSTART:20261101T060000
END:STANDARD
END:VTIMEZONE
BEGIN:VEVENT
DTSTART;TZID=America/New_York:20250601T110000
DTEND;TZID=America/New_York:20250601T150000
DTSTAMP:20260421T133955
CREATED:20250305T010258Z
LAST-MODIFIED:20250305T011246Z
UID:10013053-1748775600-1748790000@explorehunterdonnj.com
SUMMARY:Words That Start Exhibit
DESCRIPTION:Words That Start offers a loose and idiosyncratic survey of 17 contemporary artists working with text in painting\, drawing\, and sculpture. The spectra — from literal to abstract\, demanding to dissolving\, traditionally functional to highly formal — unravel into spirals like cursive loops that begin to bump into each other and ultimately raise questions of how meaning is made in the first place\, and how it can be made to fall apart. This exhibition spans Studio Route 29’s Beauty Gallery and ArtYard’s Courtyard Gallery. \nThe exhibition features work by artists Theo Baransky\, Judy Barnett\, Chris Corr-Barberis\, Carlo Daleo\, Kayla Ephros\, Gabriel Garza\, Peter Harris\, Otis Houston Jr.\, Olin Johnson\, Michael Mangino\, Mick McDonough\, Rotimi Osinubi\, Dorian Reid\, Barb Riddle\, Jennifer Chai Shear\, Eric Spencer\, and Marisa Takal. \nStudio Route 29 is located at 62A Trenton Ave. Public gallery hours are Wednesday to Saturday 11 AM to 3 PM or by appointment. \nLearn more HERE!
URL:https://explorehunterdonnj.com/event/words-that-start-exhibit/2025-06-01
CATEGORIES:Hunterdon Arts,Hunterdon Arts|Main Streets
ATTACH;FMTTYPE=image/jpeg:https://explorehunterdonnj.com/wp-content/uploads/2022/06/ArtYard-21314793_2003944743171441_3570870580823395726_n-1.jpg
END:VEVENT
BEGIN:VEVENT
DTSTART;TZID=America/New_York:20250607T110000
DTEND;TZID=America/New_York:20250607T150000
DTSTAMP:20260421T133955
CREATED:20250305T010258Z
LAST-MODIFIED:20250305T011246Z
UID:10013054-1749294000-1749308400@explorehunterdonnj.com
SUMMARY:Words That Start Exhibit
DESCRIPTION:Words That Start offers a loose and idiosyncratic survey of 17 contemporary artists working with text in painting\, drawing\, and sculpture. The spectra — from literal to abstract\, demanding to dissolving\, traditionally functional to highly formal — unravel into spirals like cursive loops that begin to bump into each other and ultimately raise questions of how meaning is made in the first place\, and how it can be made to fall apart. This exhibition spans Studio Route 29’s Beauty Gallery and ArtYard’s Courtyard Gallery. \nThe exhibition features work by artists Theo Baransky\, Judy Barnett\, Chris Corr-Barberis\, Carlo Daleo\, Kayla Ephros\, Gabriel Garza\, Peter Harris\, Otis Houston Jr.\, Olin Johnson\, Michael Mangino\, Mick McDonough\, Rotimi Osinubi\, Dorian Reid\, Barb Riddle\, Jennifer Chai Shear\, Eric Spencer\, and Marisa Takal. \nStudio Route 29 is located at 62A Trenton Ave. Public gallery hours are Wednesday to Saturday 11 AM to 3 PM or by appointment. \nLearn more HERE!
URL:https://explorehunterdonnj.com/event/words-that-start-exhibit/2025-06-07
CATEGORIES:Hunterdon Arts,Hunterdon Arts|Main Streets
ATTACH;FMTTYPE=image/jpeg:https://explorehunterdonnj.com/wp-content/uploads/2022/06/ArtYard-21314793_2003944743171441_3570870580823395726_n-1.jpg
END:VEVENT
BEGIN:VEVENT
DTSTART;TZID=America/New_York:20250608T110000
DTEND;TZID=America/New_York:20250608T150000
DTSTAMP:20260421T133955
CREATED:20250305T010258Z
LAST-MODIFIED:20250305T011246Z
UID:10013055-1749380400-1749394800@explorehunterdonnj.com
SUMMARY:Words That Start Exhibit
DESCRIPTION:Words That Start offers a loose and idiosyncratic survey of 17 contemporary artists working with text in painting\, drawing\, and sculpture. The spectra — from literal to abstract\, demanding to dissolving\, traditionally functional to highly formal — unravel into spirals like cursive loops that begin to bump into each other and ultimately raise questions of how meaning is made in the first place\, and how it can be made to fall apart. This exhibition spans Studio Route 29’s Beauty Gallery and ArtYard’s Courtyard Gallery. \nThe exhibition features work by artists Theo Baransky\, Judy Barnett\, Chris Corr-Barberis\, Carlo Daleo\, Kayla Ephros\, Gabriel Garza\, Peter Harris\, Otis Houston Jr.\, Olin Johnson\, Michael Mangino\, Mick McDonough\, Rotimi Osinubi\, Dorian Reid\, Barb Riddle\, Jennifer Chai Shear\, Eric Spencer\, and Marisa Takal. \nStudio Route 29 is located at 62A Trenton Ave. Public gallery hours are Wednesday to Saturday 11 AM to 3 PM or by appointment. \nLearn more HERE!
URL:https://explorehunterdonnj.com/event/words-that-start-exhibit/2025-06-08
CATEGORIES:Hunterdon Arts,Hunterdon Arts|Main Streets
ATTACH;FMTTYPE=image/jpeg:https://explorehunterdonnj.com/wp-content/uploads/2022/06/ArtYard-21314793_2003944743171441_3570870580823395726_n-1.jpg
END:VEVENT
END:VCALENDAR