BEGIN:VCALENDAR
VERSION:2.0
PRODID:-//Explore Hunterdon County - ECPv6.15.20//NONSGML v1.0//EN
CALSCALE:GREGORIAN
METHOD:PUBLISH
X-WR-CALNAME:Explore Hunterdon County
X-ORIGINAL-URL:https://explorehunterdonnj.com
X-WR-CALDESC:Events for Explore Hunterdon County
REFRESH-INTERVAL;VALUE=DURATION:PT1H
X-Robots-Tag:noindex
X-PUBLISHED-TTL:PT1H
BEGIN:VTIMEZONE
TZID:America/New_York
BEGIN:DAYLIGHT
TZOFFSETFROM:-0500
TZOFFSETTO:-0400
TZNAME:EDT
DTSTART:20230312T070000
END:DAYLIGHT
BEGIN:STANDARD
TZOFFSETFROM:-0400
TZOFFSETTO:-0500
TZNAME:EST
DTSTART:20231105T060000
END:STANDARD
BEGIN:DAYLIGHT
TZOFFSETFROM:-0500
TZOFFSETTO:-0400
TZNAME:EDT
DTSTART:20240310T070000
END:DAYLIGHT
BEGIN:STANDARD
TZOFFSETFROM:-0400
TZOFFSETTO:-0500
TZNAME:EST
DTSTART:20241103T060000
END:STANDARD
BEGIN:DAYLIGHT
TZOFFSETFROM:-0500
TZOFFSETTO:-0400
TZNAME:EDT
DTSTART:20250309T070000
END:DAYLIGHT
BEGIN:STANDARD
TZOFFSETFROM:-0400
TZOFFSETTO:-0500
TZNAME:EST
DTSTART:20251102T060000
END:STANDARD
END:VTIMEZONE
BEGIN:VEVENT
DTSTART;TZID=America/New_York:20241018T200000
DTEND;TZID=America/New_York:20241018T220000
DTSTAMP:20260422T134702
CREATED:20241009T012342Z
LAST-MODIFIED:20241009T012342Z
UID:10012103-1729281600-1729288800@explorehunterdonnj.com
SUMMARY:Pumpkin Carving Contest
DESCRIPTION:Friday\, October 18\, 2024\n8:00 PM 10:00 PM\n\n\nCome out and carve some pumpkins and drink pints in preparation for Halloween! \n\nView Event →
URL:https://explorehunterdonnj.com/event/pumpkin-carving-contest
ATTACH;FMTTYPE=image/jpeg:https://explorehunterdonnj.com/wp-content/uploads/2024/05/Esker-Hart-New-Logo-2024-jpg.webp
END:VEVENT
END:VCALENDAR