BEGIN:VCALENDAR
VERSION:2.0
PRODID:-//Explore Hunterdon County - ECPv6.15.20//NONSGML v1.0//EN
CALSCALE:GREGORIAN
METHOD:PUBLISH
X-WR-CALNAME:Explore Hunterdon County
X-ORIGINAL-URL:https://explorehunterdonnj.com
X-WR-CALDESC:Events for Explore Hunterdon County
REFRESH-INTERVAL;VALUE=DURATION:PT1H
X-Robots-Tag:noindex
X-PUBLISHED-TTL:PT1H
BEGIN:VTIMEZONE
TZID:America/New_York
BEGIN:DAYLIGHT
TZOFFSETFROM:-0500
TZOFFSETTO:-0400
TZNAME:EDT
DTSTART:20250309T070000
END:DAYLIGHT
BEGIN:STANDARD
TZOFFSETFROM:-0400
TZOFFSETTO:-0500
TZNAME:EST
DTSTART:20251102T060000
END:STANDARD
BEGIN:DAYLIGHT
TZOFFSETFROM:-0500
TZOFFSETTO:-0400
TZNAME:EDT
DTSTART:20260308T070000
END:DAYLIGHT
BEGIN:STANDARD
TZOFFSETFROM:-0400
TZOFFSETTO:-0500
TZNAME:EST
DTSTART:20261101T060000
END:STANDARD
BEGIN:DAYLIGHT
TZOFFSETFROM:-0500
TZOFFSETTO:-0400
TZNAME:EDT
DTSTART:20270314T070000
END:DAYLIGHT
BEGIN:STANDARD
TZOFFSETFROM:-0400
TZOFFSETTO:-0500
TZNAME:EST
DTSTART:20271107T060000
END:STANDARD
END:VTIMEZONE
BEGIN:VEVENT
DTSTART;TZID=America/New_York:20261017T150000
DTEND;TZID=America/New_York:20261017T170000
DTSTAMP:20260422T035420
CREATED:20251202T221600Z
LAST-MODIFIED:20251202T221602Z
UID:10013864-1792249200-1792256400@explorehunterdonnj.com
SUMMARY:HEADQUARTERS FARM TOUR & COLONIAL NIBBLES
DESCRIPTION: A rare opportunity to see a 1735 estate with the original mill established by John Opdycke. The stone farmhouse dates back to 1758. The mill hasn’t worked for a long time\, but the machinery is largely intact.  Following a personal tour by owner Roger Byrom\, you will be escorted to the Winter Kitchen for a fabulous snack of colonial nibbles cooking on an open hearth. Margaret\, our hearth chef\, will give a brief talk and answer questions about authentic hearth cooking.
URL:https://explorehunterdonnj.com/event/headquarters-farm-tour-colonial-nibbles/2026-10-17
LOCATION:HEADQUARTERS FARM\, 6 ZENTEK ROAD\, STOCKTON\, New Jersey\, 08559\, United States
CATEGORIES:Hunterdon History
END:VEVENT
BEGIN:VEVENT
DTSTART;TZID=America/New_York:20261108T150000
DTEND;TZID=America/New_York:20261108T170000
DTSTAMP:20260422T035420
CREATED:20251202T221600Z
LAST-MODIFIED:20251202T221602Z
UID:10013865-1794150000-1794157200@explorehunterdonnj.com
SUMMARY:HEADQUARTERS FARM TOUR & COLONIAL NIBBLES
DESCRIPTION: A rare opportunity to see a 1735 estate with the original mill established by John Opdycke. The stone farmhouse dates back to 1758. The mill hasn’t worked for a long time\, but the machinery is largely intact.  Following a personal tour by owner Roger Byrom\, you will be escorted to the Winter Kitchen for a fabulous snack of colonial nibbles cooking on an open hearth. Margaret\, our hearth chef\, will give a brief talk and answer questions about authentic hearth cooking.
URL:https://explorehunterdonnj.com/event/headquarters-farm-tour-colonial-nibbles/2026-11-08
LOCATION:HEADQUARTERS FARM\, 6 ZENTEK ROAD\, STOCKTON\, New Jersey\, 08559\, United States
CATEGORIES:Hunterdon History
END:VEVENT
BEGIN:VEVENT
DTSTART;TZID=America/New_York:20261213T150000
DTEND;TZID=America/New_York:20261213T170000
DTSTAMP:20260422T035420
CREATED:20251202T221600Z
LAST-MODIFIED:20251202T221602Z
UID:10013866-1797174000-1797181200@explorehunterdonnj.com
SUMMARY:HEADQUARTERS FARM TOUR & COLONIAL NIBBLES
DESCRIPTION: A rare opportunity to see a 1735 estate with the original mill established by John Opdycke. The stone farmhouse dates back to 1758. The mill hasn’t worked for a long time\, but the machinery is largely intact.  Following a personal tour by owner Roger Byrom\, you will be escorted to the Winter Kitchen for a fabulous snack of colonial nibbles cooking on an open hearth. Margaret\, our hearth chef\, will give a brief talk and answer questions about authentic hearth cooking.
URL:https://explorehunterdonnj.com/event/headquarters-farm-tour-colonial-nibbles/2026-12-13
LOCATION:HEADQUARTERS FARM\, 6 ZENTEK ROAD\, STOCKTON\, New Jersey\, 08559\, United States
CATEGORIES:Hunterdon History
END:VEVENT
END:VCALENDAR