BEGIN:VCALENDAR
VERSION:2.0
PRODID:-//Explore Hunterdon County - ECPv6.15.20//NONSGML v1.0//EN
CALSCALE:GREGORIAN
METHOD:PUBLISH
X-ORIGINAL-URL:https://explorehunterdonnj.com
X-WR-CALDESC:Events for Explore Hunterdon County
REFRESH-INTERVAL;VALUE=DURATION:PT1H
X-Robots-Tag:noindex
X-PUBLISHED-TTL:PT1H
BEGIN:VTIMEZONE
TZID:America/New_York
BEGIN:DAYLIGHT
TZOFFSETFROM:-0500
TZOFFSETTO:-0400
TZNAME:EDT
DTSTART:20240310T070000
END:DAYLIGHT
BEGIN:STANDARD
TZOFFSETFROM:-0400
TZOFFSETTO:-0500
TZNAME:EST
DTSTART:20241103T060000
END:STANDARD
BEGIN:DAYLIGHT
TZOFFSETFROM:-0500
TZOFFSETTO:-0400
TZNAME:EDT
DTSTART:20250309T070000
END:DAYLIGHT
BEGIN:STANDARD
TZOFFSETFROM:-0400
TZOFFSETTO:-0500
TZNAME:EST
DTSTART:20251102T060000
END:STANDARD
BEGIN:DAYLIGHT
TZOFFSETFROM:-0500
TZOFFSETTO:-0400
TZNAME:EDT
DTSTART:20260308T070000
END:DAYLIGHT
BEGIN:STANDARD
TZOFFSETFROM:-0400
TZOFFSETTO:-0500
TZNAME:EST
DTSTART:20261101T060000
END:STANDARD
BEGIN:DAYLIGHT
TZOFFSETFROM:-0500
TZOFFSETTO:-0400
TZNAME:EDT
DTSTART:20270314T070000
END:DAYLIGHT
BEGIN:STANDARD
TZOFFSETFROM:-0400
TZOFFSETTO:-0500
TZNAME:EST
DTSTART:20271107T060000
END:STANDARD
END:VTIMEZONE
BEGIN:VEVENT
DTSTART;TZID=America/New_York:20251221T190000
DTEND;TZID=America/New_York:20251221T190000
DTSTAMP:20260421T211034
CREATED:20251128T050933Z
LAST-MODIFIED:20251128T050937Z
UID:10013837-1766343600-1766343600@explorehunterdonnj.com
SUMMARY:Annual Winter Solstice Party
DESCRIPTION:Enjoy the Annual Winter Solstice Party on Sunday\, December 21 at the Frenchtown Home and Hardware Store on Kingwood Avenue in Frenchtown. The party starts at 7 p.m.
URL:https://explorehunterdonnj.com/event/annual-winter-solstice-party
LOCATION:NJ
CATEGORIES:Main Streets
ATTACH;FMTTYPE=image/png:https://explorehunterdonnj.com/wp-content/uploads/2023/07/Screenshot-2023-07-09-at-15-21-32-FBPA-Frenchtown-Business-Professional-Association-Bastille-Day-A-Sidewalk-Celebration.png
END:VEVENT
BEGIN:VEVENT
DTSTART;TZID=America/New_York:20251227T100000
DTEND;TZID=America/New_York:20251227T100000
DTSTAMP:20260421T211034
CREATED:20251201T033635Z
LAST-MODIFIED:20251201T033640Z
UID:10013846-1766829600-1766829600@explorehunterdonnj.com
SUMMARY:Santa Express
DESCRIPTION:All Aboard for a Holiday You’ll Never Forget \n\n\n\nThe experience begins as you board your train in Flemington\, and each child receives a souvenir golden ticket! Meet Santa and Mrs. Claus on board. Stop at Ringoes Station to enjoy a cookie and hot cocoa\, an abundance of festive photo opportunities\, operating model trains\, and more. There’s no better way to embrace the holiday spirit than at Black River & Western Railroad.
URL:https://explorehunterdonnj.com/event/santa-express/2025-12-27
LOCATION:Black River & Western Railroad\, 80 Stangl Road\, Flemington\, New Jersey\, 08822\, United States
CATEGORIES:579 Trail,579 Trail (Homepage),Main Streets
ATTACH;FMTTYPE=image/jpeg:https://explorehunterdonnj.com/wp-content/uploads/2022/06/black-river.jpg
END:VEVENT
BEGIN:VEVENT
DTSTART;TZID=America/New_York:20251228T100000
DTEND;TZID=America/New_York:20251228T100000
DTSTAMP:20260421T211034
CREATED:20251201T033635Z
LAST-MODIFIED:20251201T033640Z
UID:10013847-1766916000-1766916000@explorehunterdonnj.com
SUMMARY:Santa Express
DESCRIPTION:All Aboard for a Holiday You’ll Never Forget \n\n\n\nThe experience begins as you board your train in Flemington\, and each child receives a souvenir golden ticket! Meet Santa and Mrs. Claus on board. Stop at Ringoes Station to enjoy a cookie and hot cocoa\, an abundance of festive photo opportunities\, operating model trains\, and more. There’s no better way to embrace the holiday spirit than at Black River & Western Railroad.
URL:https://explorehunterdonnj.com/event/santa-express/2025-12-28
LOCATION:Black River & Western Railroad\, 80 Stangl Road\, Flemington\, New Jersey\, 08822\, United States
CATEGORIES:579 Trail,579 Trail (Homepage),Main Streets
ATTACH;FMTTYPE=image/jpeg:https://explorehunterdonnj.com/wp-content/uploads/2022/06/black-river.jpg
END:VEVENT
BEGIN:VEVENT
DTSTART;TZID=America/New_York:20260123T110000
DTEND;TZID=America/New_York:20260123T170000
DTSTAMP:20260421T211034
CREATED:20260118T232143Z
LAST-MODIFIED:20260118T232145Z
UID:10014283-1769166000-1769187600@explorehunterdonnj.com
SUMMARY:Bernadette Simone: I Love My Condo
DESCRIPTION:In highly chromatic depictions of the condominium she lives in\, surrounded by friends\, flowers\, music\, and trees\, Bernadette Simone coalesces her most cherished spaces\, feelings\, and ways of living into repeated symbols\, all rendered in the glow of “forever” (a tense that’s very important to her). The radiance of her thickly applied pastels lends these scenes a playful joyousness – days are fair\, food is good\, friends love us\, and shining song and color wash over it all.Oct 18\, 2025—Feb 8\, 2026
URL:https://explorehunterdonnj.com/event/bernadette-simone-i-love-my-condo/2026-01-23
LOCATION:ArtYard\, 13 Front Street\, Frenchtown\, New Jersey\, 08825
CATEGORIES:Hunterdon Arts,Main Streets
ATTACH;FMTTYPE=image/jpeg:https://explorehunterdonnj.com/wp-content/uploads/2022/08/298771246_775038683705663_1735387625240207770_n.jpg
END:VEVENT
BEGIN:VEVENT
DTSTART;TZID=America/New_York:20260124T110000
DTEND;TZID=America/New_York:20260124T170000
DTSTAMP:20260421T211034
CREATED:20260118T232143Z
LAST-MODIFIED:20260118T232145Z
UID:10014284-1769252400-1769274000@explorehunterdonnj.com
SUMMARY:Bernadette Simone: I Love My Condo
DESCRIPTION:In highly chromatic depictions of the condominium she lives in\, surrounded by friends\, flowers\, music\, and trees\, Bernadette Simone coalesces her most cherished spaces\, feelings\, and ways of living into repeated symbols\, all rendered in the glow of “forever” (a tense that’s very important to her). The radiance of her thickly applied pastels lends these scenes a playful joyousness – days are fair\, food is good\, friends love us\, and shining song and color wash over it all.Oct 18\, 2025—Feb 8\, 2026
URL:https://explorehunterdonnj.com/event/bernadette-simone-i-love-my-condo/2026-01-24
LOCATION:ArtYard\, 13 Front Street\, Frenchtown\, New Jersey\, 08825
CATEGORIES:Hunterdon Arts,Main Streets
ATTACH;FMTTYPE=image/jpeg:https://explorehunterdonnj.com/wp-content/uploads/2022/08/298771246_775038683705663_1735387625240207770_n.jpg
END:VEVENT
BEGIN:VEVENT
DTSTART;TZID=America/New_York:20260125T110000
DTEND;TZID=America/New_York:20260125T170000
DTSTAMP:20260421T211034
CREATED:20260118T232143Z
LAST-MODIFIED:20260118T232145Z
UID:10014285-1769338800-1769360400@explorehunterdonnj.com
SUMMARY:Bernadette Simone: I Love My Condo
DESCRIPTION:In highly chromatic depictions of the condominium she lives in\, surrounded by friends\, flowers\, music\, and trees\, Bernadette Simone coalesces her most cherished spaces\, feelings\, and ways of living into repeated symbols\, all rendered in the glow of “forever” (a tense that’s very important to her). The radiance of her thickly applied pastels lends these scenes a playful joyousness – days are fair\, food is good\, friends love us\, and shining song and color wash over it all.Oct 18\, 2025—Feb 8\, 2026
URL:https://explorehunterdonnj.com/event/bernadette-simone-i-love-my-condo/2026-01-25
LOCATION:ArtYard\, 13 Front Street\, Frenchtown\, New Jersey\, 08825
CATEGORIES:Hunterdon Arts,Main Streets
ATTACH;FMTTYPE=image/jpeg:https://explorehunterdonnj.com/wp-content/uploads/2022/08/298771246_775038683705663_1735387625240207770_n.jpg
END:VEVENT
BEGIN:VEVENT
DTSTART;TZID=America/New_York:20260130T110000
DTEND;TZID=America/New_York:20260130T170000
DTSTAMP:20260421T211034
CREATED:20260118T232143Z
LAST-MODIFIED:20260118T232145Z
UID:10014286-1769770800-1769792400@explorehunterdonnj.com
SUMMARY:Bernadette Simone: I Love My Condo
DESCRIPTION:In highly chromatic depictions of the condominium she lives in\, surrounded by friends\, flowers\, music\, and trees\, Bernadette Simone coalesces her most cherished spaces\, feelings\, and ways of living into repeated symbols\, all rendered in the glow of “forever” (a tense that’s very important to her). The radiance of her thickly applied pastels lends these scenes a playful joyousness – days are fair\, food is good\, friends love us\, and shining song and color wash over it all.Oct 18\, 2025—Feb 8\, 2026
URL:https://explorehunterdonnj.com/event/bernadette-simone-i-love-my-condo/2026-01-30
LOCATION:ArtYard\, 13 Front Street\, Frenchtown\, New Jersey\, 08825
CATEGORIES:Hunterdon Arts,Main Streets
ATTACH;FMTTYPE=image/jpeg:https://explorehunterdonnj.com/wp-content/uploads/2022/08/298771246_775038683705663_1735387625240207770_n.jpg
END:VEVENT
BEGIN:VEVENT
DTSTART;TZID=America/New_York:20260131T110000
DTEND;TZID=America/New_York:20260131T170000
DTSTAMP:20260421T211034
CREATED:20260118T232143Z
LAST-MODIFIED:20260118T232145Z
UID:10014287-1769857200-1769878800@explorehunterdonnj.com
SUMMARY:Bernadette Simone: I Love My Condo
DESCRIPTION:In highly chromatic depictions of the condominium she lives in\, surrounded by friends\, flowers\, music\, and trees\, Bernadette Simone coalesces her most cherished spaces\, feelings\, and ways of living into repeated symbols\, all rendered in the glow of “forever” (a tense that’s very important to her). The radiance of her thickly applied pastels lends these scenes a playful joyousness – days are fair\, food is good\, friends love us\, and shining song and color wash over it all.Oct 18\, 2025—Feb 8\, 2026
URL:https://explorehunterdonnj.com/event/bernadette-simone-i-love-my-condo/2026-01-31
LOCATION:ArtYard\, 13 Front Street\, Frenchtown\, New Jersey\, 08825
CATEGORIES:Hunterdon Arts,Main Streets
ATTACH;FMTTYPE=image/jpeg:https://explorehunterdonnj.com/wp-content/uploads/2022/08/298771246_775038683705663_1735387625240207770_n.jpg
END:VEVENT
BEGIN:VEVENT
DTSTART;TZID=America/New_York:20260201T110000
DTEND;TZID=America/New_York:20260201T170000
DTSTAMP:20260421T211034
CREATED:20260118T232143Z
LAST-MODIFIED:20260118T232145Z
UID:10014288-1769943600-1769965200@explorehunterdonnj.com
SUMMARY:Bernadette Simone: I Love My Condo
DESCRIPTION:In highly chromatic depictions of the condominium she lives in\, surrounded by friends\, flowers\, music\, and trees\, Bernadette Simone coalesces her most cherished spaces\, feelings\, and ways of living into repeated symbols\, all rendered in the glow of “forever” (a tense that’s very important to her). The radiance of her thickly applied pastels lends these scenes a playful joyousness – days are fair\, food is good\, friends love us\, and shining song and color wash over it all.Oct 18\, 2025—Feb 8\, 2026
URL:https://explorehunterdonnj.com/event/bernadette-simone-i-love-my-condo/2026-02-01
LOCATION:ArtYard\, 13 Front Street\, Frenchtown\, New Jersey\, 08825
CATEGORIES:Hunterdon Arts,Main Streets
ATTACH;FMTTYPE=image/jpeg:https://explorehunterdonnj.com/wp-content/uploads/2022/08/298771246_775038683705663_1735387625240207770_n.jpg
END:VEVENT
BEGIN:VEVENT
DTSTART;TZID=America/New_York:20260206T110000
DTEND;TZID=America/New_York:20260206T170000
DTSTAMP:20260421T211034
CREATED:20260118T232143Z
LAST-MODIFIED:20260118T232145Z
UID:10014289-1770375600-1770397200@explorehunterdonnj.com
SUMMARY:Bernadette Simone: I Love My Condo
DESCRIPTION:In highly chromatic depictions of the condominium she lives in\, surrounded by friends\, flowers\, music\, and trees\, Bernadette Simone coalesces her most cherished spaces\, feelings\, and ways of living into repeated symbols\, all rendered in the glow of “forever” (a tense that’s very important to her). The radiance of her thickly applied pastels lends these scenes a playful joyousness – days are fair\, food is good\, friends love us\, and shining song and color wash over it all.Oct 18\, 2025—Feb 8\, 2026
URL:https://explorehunterdonnj.com/event/bernadette-simone-i-love-my-condo/2026-02-06
LOCATION:ArtYard\, 13 Front Street\, Frenchtown\, New Jersey\, 08825
CATEGORIES:Hunterdon Arts,Main Streets
ATTACH;FMTTYPE=image/jpeg:https://explorehunterdonnj.com/wp-content/uploads/2022/08/298771246_775038683705663_1735387625240207770_n.jpg
END:VEVENT
BEGIN:VEVENT
DTSTART;TZID=America/New_York:20260207T110000
DTEND;TZID=America/New_York:20260207T170000
DTSTAMP:20260421T211034
CREATED:20260118T232143Z
LAST-MODIFIED:20260118T232145Z
UID:10014290-1770462000-1770483600@explorehunterdonnj.com
SUMMARY:Bernadette Simone: I Love My Condo
DESCRIPTION:In highly chromatic depictions of the condominium she lives in\, surrounded by friends\, flowers\, music\, and trees\, Bernadette Simone coalesces her most cherished spaces\, feelings\, and ways of living into repeated symbols\, all rendered in the glow of “forever” (a tense that’s very important to her). The radiance of her thickly applied pastels lends these scenes a playful joyousness – days are fair\, food is good\, friends love us\, and shining song and color wash over it all.Oct 18\, 2025—Feb 8\, 2026
URL:https://explorehunterdonnj.com/event/bernadette-simone-i-love-my-condo/2026-02-07
LOCATION:ArtYard\, 13 Front Street\, Frenchtown\, New Jersey\, 08825
CATEGORIES:Hunterdon Arts,Main Streets
ATTACH;FMTTYPE=image/jpeg:https://explorehunterdonnj.com/wp-content/uploads/2022/08/298771246_775038683705663_1735387625240207770_n.jpg
END:VEVENT
BEGIN:VEVENT
DTSTART;TZID=America/New_York:20260208T110000
DTEND;TZID=America/New_York:20260208T170000
DTSTAMP:20260421T211034
CREATED:20260118T232143Z
LAST-MODIFIED:20260118T232145Z
UID:10014291-1770548400-1770570000@explorehunterdonnj.com
SUMMARY:Bernadette Simone: I Love My Condo
DESCRIPTION:In highly chromatic depictions of the condominium she lives in\, surrounded by friends\, flowers\, music\, and trees\, Bernadette Simone coalesces her most cherished spaces\, feelings\, and ways of living into repeated symbols\, all rendered in the glow of “forever” (a tense that’s very important to her). The radiance of her thickly applied pastels lends these scenes a playful joyousness – days are fair\, food is good\, friends love us\, and shining song and color wash over it all.Oct 18\, 2025—Feb 8\, 2026
URL:https://explorehunterdonnj.com/event/bernadette-simone-i-love-my-condo/2026-02-08
LOCATION:ArtYard\, 13 Front Street\, Frenchtown\, New Jersey\, 08825
CATEGORIES:Hunterdon Arts,Main Streets
ATTACH;FMTTYPE=image/jpeg:https://explorehunterdonnj.com/wp-content/uploads/2022/08/298771246_775038683705663_1735387625240207770_n.jpg
END:VEVENT
END:VCALENDAR