BEGIN:VCALENDAR
VERSION:2.0
PRODID:-//Explore Hunterdon County - ECPv6.15.20//NONSGML v1.0//EN
CALSCALE:GREGORIAN
METHOD:PUBLISH
X-ORIGINAL-URL:https://explorehunterdonnj.com
X-WR-CALDESC:Events for Explore Hunterdon County
REFRESH-INTERVAL;VALUE=DURATION:PT1H
X-Robots-Tag:noindex
X-PUBLISHED-TTL:PT1H
BEGIN:VTIMEZONE
TZID:America/New_York
BEGIN:DAYLIGHT
TZOFFSETFROM:-0500
TZOFFSETTO:-0400
TZNAME:EDT
DTSTART:20240310T070000
END:DAYLIGHT
BEGIN:STANDARD
TZOFFSETFROM:-0400
TZOFFSETTO:-0500
TZNAME:EST
DTSTART:20241103T060000
END:STANDARD
BEGIN:DAYLIGHT
TZOFFSETFROM:-0500
TZOFFSETTO:-0400
TZNAME:EDT
DTSTART:20250309T070000
END:DAYLIGHT
BEGIN:STANDARD
TZOFFSETFROM:-0400
TZOFFSETTO:-0500
TZNAME:EST
DTSTART:20251102T060000
END:STANDARD
BEGIN:DAYLIGHT
TZOFFSETFROM:-0500
TZOFFSETTO:-0400
TZNAME:EDT
DTSTART:20260308T070000
END:DAYLIGHT
BEGIN:STANDARD
TZOFFSETFROM:-0400
TZOFFSETTO:-0500
TZNAME:EST
DTSTART:20261101T060000
END:STANDARD
END:VTIMEZONE
BEGIN:VEVENT
DTSTART;VALUE=DATE:20250503
DTEND;VALUE=DATE:20250504
DTSTAMP:20260421T163732
CREATED:20250216T032328Z
LAST-MODIFIED:20250225T030434Z
UID:10012653-1746230400-1746316799@explorehunterdonnj.com
SUMMARY:Hands on Bottle Feeding Baby Goat Experience
DESCRIPTION:Love baby goats? Get ready for an unforgettable hands-on experience!\nAt our farm\, we invite you to experience the joy of bottle-feeding a baby goat and creating lasting memories with these adorable little ones! \nEach guest is provided with a bottle of milk to feed one of our adorable baby goats. In addition to feeding\, guests can enjoy interacting with the goats\, offering gentle pets as they go about their day. Whether they’re playful and active or taking a nap\, you’ll get to experience them just as they are! Depending on their size\, as well as your comfort level and ability\, you may also be able to hold or cuddle them. \nDon’t forget to bring your camera to capture these precious moments! \nLearn more HERE!
URL:https://explorehunterdonnj.com/event/hands-on-bottle-feeding-baby-goat-experience/2025-05-03
LOCATION:NJ
CATEGORIES:579 Trail,579 Trail (Homepage)
ATTACH;FMTTYPE=image/webp:https://explorehunterdonnj.com/wp-content/uploads/2022/06/The-Bubbly-Goat-Logo-Design.png.webp
END:VEVENT
BEGIN:VEVENT
DTSTART;VALUE=DATE:20250503
DTEND;VALUE=DATE:20250504
DTSTAMP:20260421T163732
CREATED:20250218T124043Z
LAST-MODIFIED:20250218T124223Z
UID:10012704-1746230400-1746316799@explorehunterdonnj.com
SUMMARY:Baby Goat Snuggle Experience
DESCRIPTION:Meet\, Mingle\, and Make Friends with Baby Goats!\nThis spring\, visit our farm for a special opportunity to spend time with our baby goats in a relaxed and welcoming setting. Guests can sit among them\, offering gentle pets as they explore\, rest in the sunshine\, or curiously come to say hello. \nAs you relax in their space\, you may even have the chance to hold one\, creating a gentle\, one-of-a-kind moment that will stay with you long after your visit. Each visit offers a unique experience\, shaped by the natural personalities and rhythms of our goats. \nWhat to expect\n\nYou will be up close and personal with the baby goats\nEnjoy interacting with the goats as they go about their day. Whether they’re playful and active or taking a nap\nHave the oppurtunity to hold one (or all of them!)\nTake plenty of pictures\, videos and ask lots of quesitions about goats!\nKnowledgeable farm guides will be present during the session\nWhen booking\, remember—our baby goats grow fast! By late May\, they’ll be bigger but still babies until fully weaned\nPlease note this experience requires pre-registration onlineRegister HERE!
URL:https://explorehunterdonnj.com/event/baby-goat-snuggle-experience/2025-05-03
LOCATION:NJ
CATEGORIES:579 Trail,579 Trail (Homepage)
ATTACH;FMTTYPE=image/webp:https://explorehunterdonnj.com/wp-content/uploads/2022/06/The-Bubbly-Goat-Logo-Design.png-1.webp
END:VEVENT
BEGIN:VEVENT
DTSTART;TZID=America/New_York:20250503T080000
DTEND;TZID=America/New_York:20250504T170000
DTSTAMP:20260421T163732
CREATED:20250427T223228Z
LAST-MODIFIED:20250427T223228Z
UID:10013136-1746259200-1746378000@explorehunterdonnj.com
SUMMARY:Bottle Feeding
DESCRIPTION:Description\n\nTickets: Ages 2 years and older + a warm bottle of milk $19.00 + NJ sales tax Ages 2 years and older\, no milk $12.00 + NJ sales tax Age under 2 is free. All visitors must have paid admission to access the farm. The “1 person\, no milk” option is best for a family where 1 person doesn’t want to feed the goats\, and is there to help a child or take photos of the activity. ALL TICKETS ARE NONREFUNDABLE UNLESS WE HAVE TO CANCEL DUE TO WEATHER. 45 minutes to feed a baby their lunch and snuggle afterwards. Watch them hop\, shimmy\, shake and snooze. This event is mostly outdoors. The baby goats have a strong desire to crawl on people. Please select your attire carefully so you are prepared for the weather and cute little bundles of joy crawling in your lap. There will definitely be some spilled milk\, and maybe a little mud and a little bit of baby goat poo. The farm is located at 71 Featherbed Ln\, Stockton\, NJ 08559. The zipcode is VERY important. Please drive slowly down the gravel lane to the visitor parking area. Follow the signs “To Goats” to meet the baby goats. Its approximately 200 yards from the parking area to the baby goats on a gravel lane. Most strollers can navigate the gravel lane. We have a portable restroom available for your comfort. Our farmstand will be open with handmade soaps\, goat cheese\, and ceramics. For the safety of our baby goats\, we do not allow pets at the farm. For additional information\, please email info@gorgeousgoat.com or call 908-274-1295. Please email for the fastest reply since we can’t always answer the phone. If severe weather is predicted 24 hours prior to the event\, we will cancel the event and refund your tickets. You will receive a notification via the email address you used for registration. We cannot accommodate refunds for any other reason. \nRegister HERE!
URL:https://explorehunterdonnj.com/event/bottle-feeding
LOCATION:NJ
CATEGORIES:579 Trail,579 Trail (Homepage)
ATTACH;FMTTYPE=image/png:https://explorehunterdonnj.com/wp-content/uploads/2022/06/gorgeous-goat-creamery-1.png
END:VEVENT
BEGIN:VEVENT
DTSTART;TZID=America/New_York:20250503T111500
DTEND;TZID=America/New_York:20250503T111500
DTSTAMP:20260421T163732
CREATED:20250203T122623Z
LAST-MODIFIED:20250204T023322Z
UID:10012608-1746270900-1746270900@explorehunterdonnj.com
SUMMARY:Hunterdon Wine Train Express 🚂🍷
DESCRIPTION:Click Here For Tickets 🎟️ \nAll aboard the Hunterdon Wine Express for a unique & delicious way to explore Hunterdon County! \nEnjoy a round-trip excursion on the historic Black River & Western Railroad from Flemington\, NJ to Old York Cellars Winery in Ringoes\, NJ\, where you will be treated to a wine tasting and lunch with the perfect vineyard views. \nYou will begin your trip at the Flemington train station (80 Stangl Rd\, Flemington\, NJ 08822) with a guided tour by a wine ambassador from Old York Cellars.  Arrive at the Ringoes station and hop on a shuttle to the winery where you will enjoy a guided Wine\, Charcuterie\, Cheese and Chocolate Pairing Experience followed by lunch!  A member of the winery team will guide guests through a selection of award-winning wines expertly paired with a collection of artisan meats\, cheeses\, and hand-crafted chocolates from local chocolatier The Fudge Shoppe.  Guests will then be treated to the perfect winery lunch\, with a selection of menu items from our Chef. Don’t worry\, we have added time for you to explore the vineyard before boarding the shuttle back to the Ringoes station.  Your journey on the Hunterdon Wine Express will conclude with a train ride back to Flemington station. \nSchedule of Events: \n11:15am  Guest check-in at Flemington Station – 80 Stangle Road\, Flemington\, NJ –  DIRECTIONS \n11:30am  Train departs & a representative will present the history of our winery onboard \n11:55am  Train arrives at Ringoes Station\, & board shuttle to Old York Cellars winery \n12:15pm  Guided Wine Tasting & Lunch at Old York Cellars \n2:45pm  Shuttle back to Ringoes Station for return train trip to Flemington \n3:40pm  Train arrives Flemington Station
URL:https://explorehunterdonnj.com/event/hunterdon-wine-train-express-%f0%9f%9a%82%f0%9f%8d%b7/2025-05-03
LOCATION:NJ
CATEGORIES:579 Trail,579 Trail (Homepage)
ATTACH;FMTTYPE=image/png:https://explorehunterdonnj.com/wp-content/uploads/2023/05/Screenshot-2023-05-02-at-08-35-35-Black-River-Western-Railroad-Flemington-NJ.png
END:VEVENT
BEGIN:VEVENT
DTSTART;TZID=America/New_York:20250503T183000
DTEND;TZID=America/New_York:20250503T210000
DTSTAMP:20260421T163732
CREATED:20250317T013336Z
LAST-MODIFIED:20250317T013336Z
UID:10013099-1746297000-1746306000@explorehunterdonnj.com
SUMMARY:Vineyard Pig Roast
DESCRIPTION:Join us for our kickoff to the warm season! Enjoy a delectable roast pig with accompaniments and sides from Brick Farm Tavern in Hopewell; listen to live bluegrass; an open wine bar with select Unionville wines. \n$85 per person\, plus tax. $75 for STAMPED and Fine Vine Social Club members – discount code to be sent via email. Event will be held rain or shine\, under the tent on the patio \nLearn more HERE!
URL:https://explorehunterdonnj.com/event/vineyard-pig-roast
LOCATION:NJ
CATEGORIES:579 Trail,579 Trail (Homepage)
ATTACH;FMTTYPE=image/png:https://explorehunterdonnj.com/wp-content/uploads/2024/06/Unionville-Vineyards-Logo_960.png
END:VEVENT
END:VCALENDAR