BEGIN:VCALENDAR
VERSION:2.0
PRODID:-//Explore Hunterdon County - ECPv6.15.20//NONSGML v1.0//EN
CALSCALE:GREGORIAN
METHOD:PUBLISH
X-ORIGINAL-URL:https://explorehunterdonnj.com
X-WR-CALDESC:Events for Explore Hunterdon County
REFRESH-INTERVAL;VALUE=DURATION:PT1H
X-Robots-Tag:noindex
X-PUBLISHED-TTL:PT1H
BEGIN:VTIMEZONE
TZID:America/New_York
BEGIN:DAYLIGHT
TZOFFSETFROM:-0500
TZOFFSETTO:-0400
TZNAME:EDT
DTSTART:20240310T070000
END:DAYLIGHT
BEGIN:STANDARD
TZOFFSETFROM:-0400
TZOFFSETTO:-0500
TZNAME:EST
DTSTART:20241103T060000
END:STANDARD
BEGIN:DAYLIGHT
TZOFFSETFROM:-0500
TZOFFSETTO:-0400
TZNAME:EDT
DTSTART:20250309T070000
END:DAYLIGHT
BEGIN:STANDARD
TZOFFSETFROM:-0400
TZOFFSETTO:-0500
TZNAME:EST
DTSTART:20251102T060000
END:STANDARD
BEGIN:DAYLIGHT
TZOFFSETFROM:-0500
TZOFFSETTO:-0400
TZNAME:EDT
DTSTART:20260308T070000
END:DAYLIGHT
BEGIN:STANDARD
TZOFFSETFROM:-0400
TZOFFSETTO:-0500
TZNAME:EST
DTSTART:20261101T060000
END:STANDARD
END:VTIMEZONE
BEGIN:VEVENT
DTSTART;TZID=America/New_York:20250208T120000
DTEND;TZID=America/New_York:20250209T120000
DTSTAMP:20260424T124440
CREATED:20250205T120454Z
LAST-MODIFIED:20250205T120454Z
UID:10012622-1739016000-1739102400@explorehunterdonnj.com
SUMMARY:Wine & Chocolate Pairing
DESCRIPTION:
URL:https://explorehunterdonnj.com/event/wine-chocolate-pairing
LOCATION:NJ
CATEGORIES:579 Trail,579 Trail (Homepage)
ATTACH;FMTTYPE=image/png:https://explorehunterdonnj.com/wp-content/uploads/2022/07/Screenshot-2022-07-31-at-21-45-14-Angelico-Winery.png
END:VEVENT
BEGIN:VEVENT
DTSTART;TZID=America/New_York:20250208T120000
DTEND;TZID=America/New_York:20250209T170000
DTSTAMP:20260424T124440
CREATED:20250203T122039Z
LAST-MODIFIED:20250203T122205Z
UID:10012597-1739016000-1739120400@explorehunterdonnj.com
SUMMARY:Sweets & Wine with your Valentine 2025
DESCRIPTION:Enjoy a couple’s wine tasting\, with specially paired sweet and savory baked goods and chocolate truffles by Blawenburg Bistro. Each purchase includes two wine tastings\, a treat package to share\, and two glasses of wine of your choosing after your tasting. This will be offered February 8-9\, and 14-16. Purchases must be made at least two days in advance. \nOnce purchased\, you may visit the tasting room on the day you select when ordering between 12 and 4:15pm. We may reach out to you in advance to learn what time you plan on visiting. \nImportant Notice: One ticket covers two people for the tasting\, glasses\, and treats. \n\n\nPurchase tickets HERE! 
URL:https://explorehunterdonnj.com/event/sweets-wine-with-your-valentine-2025/2025-02-08
LOCATION:NJ
CATEGORIES:579 Trail,579 Trail (Homepage)
ATTACH;FMTTYPE=image/png:https://explorehunterdonnj.com/wp-content/uploads/2024/06/Unionville-Vineyards-Logo_960.png
END:VEVENT
BEGIN:VEVENT
DTSTART;TZID=America/New_York:20250209T130000
DTEND;TZID=America/New_York:20250209T130000
DTSTAMP:20260424T124440
CREATED:20250106T225220Z
LAST-MODIFIED:20250106T225315Z
UID:10012530-1739106000-1739106000@explorehunterdonnj.com
SUMMARY:S'mores & Goats
DESCRIPTION:Admission: 13 years and older $27\, 3-12 years $17\, 2 and younger free \nYou’ll find the Greatest Of All Time Valentine at the farm. The G.O.A.T. Valentine! \nRoast marshmallows around the campfire\, enjoy a cup of hot cocoa or tea\, and meet the goats. \nWe will have 4 campfires for your group to enjoy. Each admission come with a kit to make two smores\, bottomless hot cocoa or tea\, and lots of snuggles with the goats. \nThis event is 100% outside. We recommend winter attire (hats\, mittens\, coat) and sturdy boots. No pets are allowed on the farm. \nIMPORTANT INFO: If there is significant rain/sleet/snow or winds gusting 30 mph or higher\, we will cancel the event. We will refund your registration in the event of a weather cancellation. If you can’t attend for personal reasons\, we will offer a voucher that can be used in our online store or for a future event. We cannot offer refunds for personal cancellations. The event is 100% outside. Dress accordingly. There may be a few puddles or muddy spots if it’s above freezing. Amenities: Goat love: Our goats love people. If you choose to be up close and personal with them\, they will share their love with you by nibbling on your zipper or whispering in your ear. Nature: We are nestled in the woods of Hunterdon County. On the tour\, there’s a chance you might see other wildlife or just have a moment to take a deep breath and enjoy the beauty around us. Farm store: Our farm stand will be open with handmade goats milk soaps\, goat cheese and handmade ceramics. Restroom: For your comfort\, we have a portable restroom available to all guests. Getting to our farm: Put the address 71 Featherbed Lane\, Stockton\, NJ 08559 in your navigation. BE SURE TO INCLUDE THE ZIP CODE! Follow the signs down our gravel lane to the parking area. If you have any problems finding the farm\, please call Maria or Matt at 908-274-1295. \nBook HERE!
URL:https://explorehunterdonnj.com/event/smores-goats/2025-02-09
LOCATION:NJ
CATEGORIES:579 Trail,579 Trail (Homepage)
ATTACH;FMTTYPE=image/png:https://explorehunterdonnj.com/wp-content/uploads/2022/06/gorgeous-goat-creamery-1.png
END:VEVENT
END:VCALENDAR