BEGIN:VCALENDAR
VERSION:2.0
PRODID:-//Explore Hunterdon County - ECPv6.15.20//NONSGML v1.0//EN
CALSCALE:GREGORIAN
METHOD:PUBLISH
X-WR-CALNAME:Explore Hunterdon County
X-ORIGINAL-URL:https://explorehunterdonnj.com
X-WR-CALDESC:Events for Explore Hunterdon County
REFRESH-INTERVAL;VALUE=DURATION:PT1H
X-Robots-Tag:noindex
X-PUBLISHED-TTL:PT1H
BEGIN:VTIMEZONE
TZID:America/New_York
BEGIN:DAYLIGHT
TZOFFSETFROM:-0500
TZOFFSETTO:-0400
TZNAME:EDT
DTSTART:20250309T070000
END:DAYLIGHT
BEGIN:STANDARD
TZOFFSETFROM:-0400
TZOFFSETTO:-0500
TZNAME:EST
DTSTART:20251102T060000
END:STANDARD
BEGIN:DAYLIGHT
TZOFFSETFROM:-0500
TZOFFSETTO:-0400
TZNAME:EDT
DTSTART:20260308T070000
END:DAYLIGHT
BEGIN:STANDARD
TZOFFSETFROM:-0400
TZOFFSETTO:-0500
TZNAME:EST
DTSTART:20261101T060000
END:STANDARD
BEGIN:DAYLIGHT
TZOFFSETFROM:-0500
TZOFFSETTO:-0400
TZNAME:EDT
DTSTART:20270314T070000
END:DAYLIGHT
BEGIN:STANDARD
TZOFFSETFROM:-0400
TZOFFSETTO:-0500
TZNAME:EST
DTSTART:20271107T060000
END:STANDARD
END:VTIMEZONE
BEGIN:VEVENT
DTSTART;TZID=America/New_York:20260328T110000
DTEND;TZID=America/New_York:20260329T170000
DTSTAMP:20260421T133418
CREATED:20260118T234538Z
LAST-MODIFIED:20260118T234539Z
UID:10014316-1774695600-1774803600@explorehunterdonnj.com
SUMMARY:Dennis Quillin and Christian Turner: One Wicked Mime
DESCRIPTION:One Wicked Mime brings together recent work by Dennis Quillin and Christian Turner\, whose work is connected in its formal presentation and playful sensibility. Quillin is an artist at Art Enables\, in Washington DC\, and Turner is an artist at Studio Route 29 in New Jersey.Feb 21—May 31\, 2026
URL:https://explorehunterdonnj.com/event/dennis-quillin-and-christian-turner-one-wicked-mime/2026-03-28
LOCATION:ArtYard\, 13 Front Street\, Frenchtown\, New Jersey\, 08825
CATEGORIES:Hunterdon Arts|Main Streets
ATTACH;FMTTYPE=image/png:https://explorehunterdonnj.com/wp-content/uploads/2026/01/Screen-Shot-2026-01-18-at-6.42.21-PM.png
END:VEVENT
BEGIN:VEVENT
DTSTART;TZID=America/New_York:20260328T110000
DTEND;TZID=America/New_York:20260329T170000
DTSTAMP:20260421T133418
CREATED:20260118T234907Z
LAST-MODIFIED:20260118T234910Z
UID:10014346-1774695600-1774803600@explorehunterdonnj.com
SUMMARY:Artificial Insurance\, a paranoid normal triptych
DESCRIPTION:Artificial Insurance is an installation featuring work by visual and performance artist Justin Lander that will be on view this spring in ArtYard’s VSG (Very Small Galleries)\, three miniature installations hidden in our walls\, visible through small peepholes. \n\n\n\nArtificial Intelligence is an insurance policy that protects us from difficulties in life. It is a golem that makes life easy by outsourcing artificial solutions. We absorb this artificiality\, and it becomes real\, making us artificial. \n\n\n\nArtificial Insurance\, a paranoid normal triptych\, uses found objects\, papier-mâché\, and wire sculptures to create snapshots of a Dadaist puppet show — dream images from the subconscious\, sent as a reminder that\, to insure full humanity\, art cannot be a product of data mining.
URL:https://explorehunterdonnj.com/event/artificial-insurance-a-paranoid-normal-triptych/2026-03-28
LOCATION:ArtYard\, 13 Front Street\, Frenchtown\, New Jersey\, 08825
CATEGORIES:Hunterdon Arts|Main Streets
ATTACH;FMTTYPE=image/png:https://explorehunterdonnj.com/wp-content/uploads/2023/05/Untitled.png
END:VEVENT
BEGIN:VEVENT
DTSTART;TZID=America/New_York:20260328T110000
DTEND;TZID=America/New_York:20260329T170000
DTSTAMP:20260421T133418
CREATED:20260118T235148Z
LAST-MODIFIED:20260118T235150Z
UID:10014376-1774695600-1774803600@explorehunterdonnj.com
SUMMARY:Lora Webb Nichols: Photographs Made\, Photographs Collected
DESCRIPTION:Lora Webb Nichols (1883-1962) created and collected approximately 24\,000 negatives over the course of her lifetime in the mining town of Encampment. The images chronicle the domestic\, social\, and economic aspects of the sparsely populated frontier of south-central Wyoming.
URL:https://explorehunterdonnj.com/event/lora-webb-nichols-photographs-made-photographs-collected/2026-03-28
LOCATION:ArtYard\, 13 Front Street\, Frenchtown\, New Jersey\, 08825
CATEGORIES:Hunterdon Arts|Main Streets
ATTACH;FMTTYPE=image/jpeg:https://explorehunterdonnj.com/wp-content/uploads/2022/06/artyard.jpg
END:VEVENT
BEGIN:VEVENT
DTSTART;TZID=America/New_York:20260328T113000
DTEND;TZID=America/New_York:20260329T143000
DTSTAMP:20260421T133418
CREATED:20260119T001907Z
LAST-MODIFIED:20260119T001957Z
UID:10014174-1774697400-1774794600@explorehunterdonnj.com
SUMMARY:Weekend Bubbly Brunch✨
DESCRIPTION:Elevate your weekends with Brunch at the Winery \n\n\n\nSavor a leisurely brunch surrounded by vineyard views. Our menu features a wide selection of Spanish-inspired dishes crafted by our in-house chef\, perfectly paired with mimosas\, sparkling wines\, and your favorite Old York Cellars selections. \n\n\n\nEnhance your experience with our exclusive Brunch Pairings\, including the ever-popular Wine & Bacon Pairing. \n\n\n\nBrunch is served 11:30 am – 2:30 pm every Saturday & Sunday\, and on select holidays. \n\n\n\nSip\, savor\, and make your weekend sparkle! ✨
URL:https://explorehunterdonnj.com/event/weekend-bubbly-brunch%e2%9c%a8-3/2026-03-28
LOCATION:NJ
CATEGORIES:579 Trail
ATTACH;FMTTYPE=image/png:https://explorehunterdonnj.com/wp-content/uploads/2022/07/Old-York-Cellars.png
END:VEVENT
BEGIN:VEVENT
DTSTART;TZID=America/New_York:20260329T110000
DTEND;TZID=America/New_York:20260330T170000
DTSTAMP:20260421T133418
CREATED:20260118T234538Z
LAST-MODIFIED:20260118T234539Z
UID:10014317-1774782000-1774890000@explorehunterdonnj.com
SUMMARY:Dennis Quillin and Christian Turner: One Wicked Mime
DESCRIPTION:One Wicked Mime brings together recent work by Dennis Quillin and Christian Turner\, whose work is connected in its formal presentation and playful sensibility. Quillin is an artist at Art Enables\, in Washington DC\, and Turner is an artist at Studio Route 29 in New Jersey.Feb 21—May 31\, 2026
URL:https://explorehunterdonnj.com/event/dennis-quillin-and-christian-turner-one-wicked-mime/2026-03-29
LOCATION:ArtYard\, 13 Front Street\, Frenchtown\, New Jersey\, 08825
CATEGORIES:Hunterdon Arts|Main Streets
ATTACH;FMTTYPE=image/png:https://explorehunterdonnj.com/wp-content/uploads/2026/01/Screen-Shot-2026-01-18-at-6.42.21-PM.png
END:VEVENT
BEGIN:VEVENT
DTSTART;TZID=America/New_York:20260329T110000
DTEND;TZID=America/New_York:20260330T170000
DTSTAMP:20260421T133418
CREATED:20260118T234907Z
LAST-MODIFIED:20260118T234910Z
UID:10014347-1774782000-1774890000@explorehunterdonnj.com
SUMMARY:Artificial Insurance\, a paranoid normal triptych
DESCRIPTION:Artificial Insurance is an installation featuring work by visual and performance artist Justin Lander that will be on view this spring in ArtYard’s VSG (Very Small Galleries)\, three miniature installations hidden in our walls\, visible through small peepholes. \n\n\n\nArtificial Intelligence is an insurance policy that protects us from difficulties in life. It is a golem that makes life easy by outsourcing artificial solutions. We absorb this artificiality\, and it becomes real\, making us artificial. \n\n\n\nArtificial Insurance\, a paranoid normal triptych\, uses found objects\, papier-mâché\, and wire sculptures to create snapshots of a Dadaist puppet show — dream images from the subconscious\, sent as a reminder that\, to insure full humanity\, art cannot be a product of data mining.
URL:https://explorehunterdonnj.com/event/artificial-insurance-a-paranoid-normal-triptych/2026-03-29
LOCATION:ArtYard\, 13 Front Street\, Frenchtown\, New Jersey\, 08825
CATEGORIES:Hunterdon Arts|Main Streets
ATTACH;FMTTYPE=image/png:https://explorehunterdonnj.com/wp-content/uploads/2023/05/Untitled.png
END:VEVENT
BEGIN:VEVENT
DTSTART;TZID=America/New_York:20260329T110000
DTEND;TZID=America/New_York:20260330T170000
DTSTAMP:20260421T133418
CREATED:20260118T235148Z
LAST-MODIFIED:20260118T235150Z
UID:10014377-1774782000-1774890000@explorehunterdonnj.com
SUMMARY:Lora Webb Nichols: Photographs Made\, Photographs Collected
DESCRIPTION:Lora Webb Nichols (1883-1962) created and collected approximately 24\,000 negatives over the course of her lifetime in the mining town of Encampment. The images chronicle the domestic\, social\, and economic aspects of the sparsely populated frontier of south-central Wyoming.
URL:https://explorehunterdonnj.com/event/lora-webb-nichols-photographs-made-photographs-collected/2026-03-29
LOCATION:ArtYard\, 13 Front Street\, Frenchtown\, New Jersey\, 08825
CATEGORIES:Hunterdon Arts|Main Streets
ATTACH;FMTTYPE=image/jpeg:https://explorehunterdonnj.com/wp-content/uploads/2022/06/artyard.jpg
END:VEVENT
BEGIN:VEVENT
DTSTART;TZID=America/New_York:20260329T120000
DTEND;TZID=America/New_York:20260329T133000
DTSTAMP:20260421T133418
CREATED:20260217T040132Z
LAST-MODIFIED:20260217T040141Z
UID:10014484-1774785600-1774791000@explorehunterdonnj.com
SUMMARY:Baby Goat Bottle Feeding Time
DESCRIPTION:Tickets: Ages 2 years and older + a warm bottle of milk $19.00 + NJ sales tax Ages 2 years and older\, no milk $14.00 + NJ sales tax Age under 2 is free. All visitors must have paid admission to access the farm. The “1 person\, no milk” option is best for a family where 1 person doesn’t want to feed the goats\, and is there to help a child or take photos of the activity. ALL TICKETS ARE NONREFUNDABLE UNLESS WE HAVE TO CANCEL DUE TO WEATHER. 30 minutes to feed a baby their lunch and snuggle afterwards. Watch them hop\, shimmy\, shake and snooze. This event is mostly outdoors. The baby goats have a strong desire to crawl on people. Please select your attire carefully so you are prepared for the weather and cute little bundles of joy crawling in your lap. There will definitely be some spilled milk\, and maybe a little mud and a little bit of baby goat poo. The farm is located at 71 Featherbed Ln\, Stockton\, NJ 08559. The zipcode is VERY important. Please drive slowly down the gravel lane to the visitor parking area. Follow the signs “To Goats” to meet the baby goats. Its approximately 200 yards from the parking area to the baby goats on a gravel lane. Most strollers can navigate the gravel lane. We have a portable restroom available for your comfort. Our farmstand will be open with handmade soaps\, goat cheese\, and ceramics. For the safety of our baby goats\, we do not allow pets at the farm. For additional information\, please email info@gorgeousgoat.com or call 908-274-1295. Please email for the fastest reply since we can’t always answer the phone. If severe weather is predicted 24 hours prior to the event\, we will cancel the event and refund your tickets. You will receive a notification via the email address you used for registration. We cannot accommodate refunds for any other reason.
URL:https://explorehunterdonnj.com/event/baby-goat-bottle-feeding-time/2026-03-29
LOCATION:Gorgeous Goat Creamery\, 71 Featherbed Ln\, Stockton\, NJ\, 08559\, United States
CATEGORIES:579 Trail,579 Trail (Homepage)
ATTACH;FMTTYPE=image/png:https://explorehunterdonnj.com/wp-content/uploads/2022/06/gorgeous-goat-creamery-1.png
END:VEVENT
BEGIN:VEVENT
DTSTART;TZID=America/New_York:20260329T140000
DTEND;TZID=America/New_York:20260329T140000
DTSTAMP:20260421T133418
CREATED:20260210T112835Z
LAST-MODIFIED:20260210T112842Z
UID:10014406-1774792800-1774792800@explorehunterdonnj.com
SUMMARY:Easter Egg Hunt
DESCRIPTION:OUR BELOVED EASTER TRADITION IS BACK \n\n\n\nOur 5th Annual Easter Egg Hunt is one of our favorite events of the year and it sells out every single time \n\n\n\nIf you’ve been before\, you already know. If you haven’t\, this is your sign. \n\n\n\nSunday\, March 29th \n\n\n\nRain Date: Saturday\, April 4th \n\n\n\nRegistration required | ONLY 100 childrenWe intentionally cap registration so every child has a fun\, stress free\, magical experience. Once tickets are gone\, they’re gone. \n\n\n\nThe Details:• $30 per child• Includes egg hunt participation + Easter gift bag• Candy\, bubbles\, coloring books\, popcorn & more• Children must be registered and under 12 to participate• Check in from 12:00 to 1:30 PM• Egg Hunt begins promptly at 2:00 PM \n\n\n\nPlus:• Photos with the Easter Bunny before and after the hunt• Face painting & local vendors starting at noon• Food trucks on the Hop Farm• BYO Basket• Outdoor farm event so dress accordingly \n\n\n\nTickets sell FAST and nothing is worse than having to explain to your little ones why they missed it. Don’t sleep on these.
URL:https://explorehunterdonnj.com/event/easter-egg-hunt
LOCATION:Readington Brewery\, 937 US Highway 202 S\, Neshanic Station\, NJ\, 08853\, United States
CATEGORIES:Beer Trail
ATTACH;FMTTYPE=image/png:https://explorehunterdonnj.com/wp-content/uploads/2023/10/cropped-readington-bhf-logo.png
END:VEVENT
END:VCALENDAR