BEGIN:VCALENDAR
VERSION:2.0
PRODID:-//Explore Hunterdon County - ECPv6.15.20//NONSGML v1.0//EN
CALSCALE:GREGORIAN
METHOD:PUBLISH
X-ORIGINAL-URL:https://explorehunterdonnj.com
X-WR-CALDESC:Events for Explore Hunterdon County
REFRESH-INTERVAL;VALUE=DURATION:PT1H
X-Robots-Tag:noindex
X-PUBLISHED-TTL:PT1H
BEGIN:VTIMEZONE
TZID:America/New_York
BEGIN:DAYLIGHT
TZOFFSETFROM:-0500
TZOFFSETTO:-0400
TZNAME:EDT
DTSTART:20240310T070000
END:DAYLIGHT
BEGIN:STANDARD
TZOFFSETFROM:-0400
TZOFFSETTO:-0500
TZNAME:EST
DTSTART:20241103T060000
END:STANDARD
BEGIN:DAYLIGHT
TZOFFSETFROM:-0500
TZOFFSETTO:-0400
TZNAME:EDT
DTSTART:20250309T070000
END:DAYLIGHT
BEGIN:STANDARD
TZOFFSETFROM:-0400
TZOFFSETTO:-0500
TZNAME:EST
DTSTART:20251102T060000
END:STANDARD
BEGIN:DAYLIGHT
TZOFFSETFROM:-0500
TZOFFSETTO:-0400
TZNAME:EDT
DTSTART:20260308T070000
END:DAYLIGHT
BEGIN:STANDARD
TZOFFSETFROM:-0400
TZOFFSETTO:-0500
TZNAME:EST
DTSTART:20261101T060000
END:STANDARD
END:VTIMEZONE
BEGIN:VEVENT
DTSTART;TZID=America/New_York:20250626T093000
DTEND;TZID=America/New_York:20250626T093000
DTSTAMP:20260424T201640
CREATED:20250512T222829Z
LAST-MODIFIED:20250512T222829Z
UID:10013376-1750930200-1750930200@explorehunterdonnj.com
SUMMARY:Toddler Time on the Farm
DESCRIPTION:We have a parent and me toddler time on the homestead. We ask that you preregister so we can provide the right amount of snacks and crafts. Payment is not due until the day of the event. \nTo sign up click here
URL:https://explorehunterdonnj.com/event/toddler-time-on-the-farm/2025-06-26
LOCATION:NJ
CATEGORIES:579 Trail,579 Trail (Homepage)
ATTACH;FMTTYPE=image/webp:https://explorehunterdonnj.com/wp-content/uploads/2025/01/Haxton-Homestead.avif
END:VEVENT
BEGIN:VEVENT
DTSTART;TZID=America/New_York:20250626T193000
DTEND;TZID=America/New_York:20250626T223000
DTSTAMP:20260424T201640
CREATED:20241228T022552Z
LAST-MODIFIED:20241228T022552Z
UID:10012411-1750966200-1750977000@explorehunterdonnj.com
SUMMARY:Karaoke
DESCRIPTION:Join DJ Ted D’Bierre of Lionfire Entertainment for a fun filled night of karaoke.
URL:https://explorehunterdonnj.com/event/karaoke/2025-06-26
LOCATION:NJ
ATTACH;FMTTYPE=image/png:https://explorehunterdonnj.com/wp-content/uploads/2024/12/Screen-Shot-2024-12-27-at-9.24.56-PM-png.avif
END:VEVENT
END:VCALENDAR